BEGIN:VCALENDAR
BEGIN:VEVENT
CREATED:20200320T185226Z
UID:20200320-185226-2b60a6027d799b490194eb6143d34f67@iserv.berufsschulen
 -thuine.schulserver.de
DTSTART;VALUE=DATE:20200316
DTEND;VALUE=DATE:20200328
SUMMARY:Schulausfall Corona
CLASS:PUBLIC
TRANSP:OPAQUE
LAST-MODIFIED:20200320T185226Z
DTSTAMP:20200320T185226Z
END:VEVENT
BEGIN:VEVENT
CREATED:20200825T173034Z
UID:20200825-173034-e9091246a309eec4e5ce662dea103082@iserv.berufsschulen
 -thuine.schulserver.de
DTSTART;TZID=Europe/Berlin:20201130T113000
DTEND;TZID=Europe/Berlin:20201130T123000
SUMMARY:Adventskranzsegnung\, 5. Std.
TRANSP:OPAQUE
LAST-MODIFIED:20201123T100035Z
DTSTAMP:20201123T100035Z
END:VEVENT
BEGIN:VEVENT
CREATED:20200617T184123Z
UID:20200617-184123-1237c3e4d321260d693b30bf9063e19f@iserv.berufsschulen
 -thuine.schulserver.de
DTSTART;VALUE=DATE:20200625
DTEND;VALUE=DATE:20200626
SUMMARY:Notenbekanntgabe
TRANSP:OPAQUE
LAST-MODIFIED:20200618T051850Z
DTSTAMP:20200618T051850Z
END:VEVENT
BEGIN:VEVENT
CREATED:20200825T172803Z
UID:20200825-172803-f1c7b27a2d5014c75718352993b808b1@iserv.berufsschulen
 -thuine.schulserver.de
DTSTART;TZID=Europe/Berlin:20210422T080000
DTEND;TZID=Europe/Berlin:20210422T090000
SUMMARY:Schulmesse
CLASS:PUBLIC
TRANSP:OPAQUE
LAST-MODIFIED:20200825T172803Z
DTSTAMP:20200825T172803Z
END:VEVENT
BEGIN:VEVENT
CREATED:20200825T172432Z
UID:20200825-172432-aee4ed1bb8abaa841f936aaec1b44c86@iserv.berufsschulen
 -thuine.schulserver.de
DTSTART;TZID=Europe/Berlin:20201009T110000
DTEND;TZID=Europe/Berlin:20201009T120000
SUMMARY:Franziskanischer Gebetsimpuls
TRANSP:OPAQUE
LAST-MODIFIED:20200930T154452Z
DTSTAMP:20200930T154452Z
END:VEVENT
BEGIN:VEVENT
CREATED:20200825T172841Z
UID:20200825-172841-4453e55da39c9a84465ff87d4fda2d1c@iserv.berufsschulen
 -thuine.schulserver.de
DTSTART;TZID=Europe/Berlin:20210721T080000
DTEND;TZID=Europe/Berlin:20210721T090000
SUMMARY:Schuljahresabschluss Gottesdienst
CLASS:PUBLIC
TRANSP:OPAQUE
LAST-MODIFIED:20210709T062321Z
DTSTAMP:20210709T062321Z
END:VEVENT
BEGIN:VEVENT
CREATED:20200825T173152Z
UID:20200825-173152-95d4fb20715cbbaac93d8bd70df3305e@iserv.berufsschulen
 -thuine.schulserver.de
DTSTART;TZID=Europe/Berlin:20210120T150000
DTEND;TZID=Europe/Berlin:20210120T160000
SUMMARY:Versetzungskonferenz
CLASS:PUBLIC
TRANSP:OPAQUE
LAST-MODIFIED:20200825T173152Z
DTSTAMP:20200825T173152Z
END:VEVENT
BEGIN:VEVENT
CREATED:20200825T173233Z
UID:20200825-173233-b83f99d2a0c5331a61c6c9bb23274f4a@iserv.berufsschulen
 -thuine.schulserver.de
DTSTART;TZID=Europe/Berlin:20210624T150000
DTEND;TZID=Europe/Berlin:20210624T160000
SUMMARY:Prüfungskonferenz
CLASS:PUBLIC
TRANSP:OPAQUE
LAST-MODIFIED:20200825T173233Z
DTSTAMP:20200825T173233Z
END:VEVENT
BEGIN:VEVENT
CREATED:20200825T173309Z
UID:20200825-173309-0cd95102181b319a42a5e3dd2c55fc90@iserv.berufsschulen
 -thuine.schulserver.de
DTSTART;TZID=Europe/Berlin:20210708T100000
DTEND;TZID=Europe/Berlin:20210708T110000
SUMMARY:Entlassungsfeier
CLASS:PUBLIC
TRANSP:OPAQUE
LAST-MODIFIED:20200825T173309Z
DTSTAMP:20200825T173309Z
END:VEVENT
BEGIN:VEVENT
CREATED:20201009T071454Z
UID:20201009-071454-9c803a148cd01a10adba22ff46caab7b@iserv.bbsthuine.de
DTSTART;TZID=Europe/Berlin:20201203T160000
DTEND;TZID=Europe/Berlin:20201203T190000
SUMMARY:Elternsprechtag telefonisch
TRANSP:OPAQUE
LAST-MODIFIED:20201111T085907Z
DTSTAMP:20201111T085907Z
END:VEVENT
BEGIN:VEVENT
CREATED:20201009T072252Z
UID:20201009-072252-078b1cab2530eeedcdd6ac3b13b8f4ef@iserv.bbsthuine.de
DTSTART;TZID=Europe/Berlin:20201027T150000
DTEND;TZID=Europe/Berlin:20201027T180000
SUMMARY:Beratung und Anmeldung
TRANSP:OPAQUE
DTSTAMP:20201109T103026Z
EXDATE;TZID=Europe/Berlin:20201229T150000
EXDATE;TZID=Europe/Berlin:20210105T150000
EXDATE;TZID=Europe/Berlin:20210330T150000
EXDATE;TZID=Europe/Berlin:20210406T150000
EXDATE;TZID=Europe/Berlin:20210727T150000
RRULE:FREQ=WEEKLY;BYDAY=TU;UNTIL=20210719T150000
EXDATE;TZID=Europe/Berlin:20201208T150000
EXDATE;TZID=Europe/Berlin:20201222T150000
LAST-MODIFIED:20201211T074623Z
END:VEVENT
BEGIN:VEVENT
CREATED:20201009T072252Z
UID:20201009-072252-078b1cab2530eeedcdd6ac3b13b8f4ef@iserv.bbsthuine.de
EXDATE;TZID=Europe/Berlin:20201229T150000
EXDATE;TZID=Europe/Berlin:20210105T150000
EXDATE;TZID=Europe/Berlin:20210330T150000
EXDATE;TZID=Europe/Berlin:20210406T150000
EXDATE;TZID=Europe/Berlin:20210727T150000
EXDATE;TZID=Europe/Berlin:20201208T150000
EXDATE;TZID=Europe/Berlin:20201222T150000
RECURRENCE-ID;TZID=Europe/Berlin:20210202T150000
DTSTART;TZID=Europe/Berlin:20210202T083000
DTEND;TZID=Europe/Berlin:20210202T113000
SUMMARY:Beratung und Anmeldung
TRANSP:OPAQUE
LAST-MODIFIED:20210126T150927Z
DTSTAMP:20210126T150927Z
END:VEVENT
BEGIN:VEVENT
CREATED:20201113T075909Z
UID:20201113-075909-7b575ee27a783715ec3c7e4bcdf3c915@iserv.bbsthuine.de
DTSTART;TZID=Europe/Berlin:20210720T150000
DTEND;TZID=Europe/Berlin:20210720T180000
SUMMARY:Beratung und Anmeldung
TRANSP:OPAQUE
RRULE:FREQ=WEEKLY;BYDAY=TU;UNTIL=20210721T180000Z
LAST-MODIFIED:20201113T075909Z
DTSTAMP:20201113T075909Z
EXDATE;TZID=Europe/Berlin:20201229T150000
EXDATE;TZID=Europe/Berlin:20210105T150000
EXDATE;TZID=Europe/Berlin:20210330T150000
EXDATE;TZID=Europe/Berlin:20210406T150000
EXDATE;TZID=Europe/Berlin:20210727T150000
END:VEVENT
BEGIN:VEVENT
CREATED:20201208T090943Z
UID:20201208-090943-7b9ee1cbcfac79c28030ece7a9257bce@iserv.bbsthuine.de
DTSTART;VALUE=DATE:20201221
DTEND;VALUE=DATE:20201223
SUMMARY:Weihnachtsferien
CLASS:PUBLIC
TRANSP:OPAQUE
LAST-MODIFIED:20201208T090943Z
DTSTAMP:20201208T090943Z
END:VEVENT
BEGIN:VEVENT
CREATED:20210709T064218Z
UID:20210709-064218-f8d8cb49254ea44996850a4e3b6b6563@iserv.bbsthuine.de
DTSTART;TZID=Europe/Berlin:20210715T080000
DTEND;TZID=Europe/Berlin:20210715T130000
SUMMARY:Theaterprojekt ÜBERdasLEBEN
CLASS:PUBLIC
TRANSP:OPAQUE
LAST-MODIFIED:20210709T064352Z
DTSTAMP:20210709T064352Z
END:VEVENT
BEGIN:VEVENT
CREATED:20210819T083803Z
UID:20210819-083803-68a1cd6ae422abd9076e0d92f1cf533d@iserv.bbsthuine.de
DTSTART;TZID=Europe/Berlin:20211129T080000
DTEND;TZID=Europe/Berlin:20211129T090000
SUMMARY:Gottesdienst zum Beginn der Adventszeit
CLASS:PUBLIC
TRANSP:OPAQUE
LAST-MODIFIED:20210823T140041Z
DTSTAMP:20210823T140041Z
END:VEVENT
BEGIN:VEVENT
CREATED:20210820T145852Z
UID:20210820-145852-740069d44ed85f2a13c386f4c10bf820@iserv.bbsthuine.de
DTSTART;VALUE=DATE:20220630
DTEND;VALUE=DATE:20220701
SUMMARY:Schulentlassung mit Gottesdienst
CLASS:PUBLIC
TRANSP:OPAQUE
LAST-MODIFIED:20210823T140310Z
DTSTAMP:20210823T140310Z
END:VEVENT
BEGIN:VEVENT
CREATED:20220420T064727Z
UID:20220420-063304-75e5d16c87fe64404028e485effdeeea@iserv.bbsthuine.de
DTSTART;TZID=Europe/Berlin:20220427T150000
DTEND;TZID=Europe/Berlin:20220427T180000
SUMMARY:Fußball-Fortbildung "Spielen - Erleben - Erfahren" für die BFS S
 ozialp. Assistenz und deren Kita-Leitungen
LOCATION:Turnhalle Internat
TRANSP:OPAQUE
LAST-MODIFIED:20220420T084451Z
DTSTAMP:20220420T084451Z
SEQUENCE:2
END:VEVENT
BEGIN:VEVENT
CREATED:20220513T090051Z
UID:20220513-085323-0e0bb69c6341365c916d8e576301567f@iserv.bbsthuine.de
DTSTART;TZID=Europe/Berlin:20220602T113000
DTEND;TZID=Europe/Berlin:20220602T130000
SUMMARY:Lesepatenprojekt FOS 12 Q mit Thuiner Grundschule
DESCRIPTION:Begleitung Frau Degen-Wielage
TRANSP:OPAQUE
RRULE:FREQ=WEEKLY;BYDAY=TH;COUNT=3
LAST-MODIFIED:20220513T090051Z
DTSTAMP:20220513T090051Z
SEQUENCE:0
END:VEVENT
BEGIN:VEVENT
CREATED:20220519T095234Z
UID:20220519-094643-8fdab3f18364f9f796a22f6e1ac5cce2@iserv.bbsthuine.de
DTSTART;TZID=Europe/Berlin:20220614T113000
DTEND;TZID=Europe/Berlin:20220614T130000
SUMMARY:Theaterstück "Walzer ins nirgendwo"
TRANSP:OPAQUE
LAST-MODIFIED:20220519T095234Z
DTSTAMP:20220519T095234Z
SEQUENCE:0
END:VEVENT
BEGIN:VEVENT
CREATED:20220829T094918Z
UID:20220610-121242-cbb80486ea473c1eac2f307ab930b9e7@iserv.bbsthuine.de
DTSTART;VALUE=DATE:20220913
DTEND;VALUE=DATE:20220914
SUMMARY:Ausflugsfahrt der Schulgemeinschaft
CLASS:PUBLIC
TRANSP:OPAQUE
LAST-MODIFIED:20220829T094918Z
DTSTAMP:20220829T094918Z
SEQUENCE:0
END:VEVENT
BEGIN:VEVENT
CREATED:20211104T133705Z
UID:20210927-183353-683b487a211d0878d15ee11a6efdf7e3@iserv.bbsthuine.de
DTSTART;TZID=Europe/Berlin:20211125T160000
DTEND;TZID=Europe/Berlin:20211125T190000
SUMMARY:Info-Nachmittag in der BBS Thuine
TRANSP:OPAQUE
LAST-MODIFIED:20211104T135656Z
DTSTAMP:20211104T135656Z
SEQUENCE:1
END:VEVENT
BEGIN:VEVENT
CREATED:20220114T154758Z
UID:20220114-153231-33591cabf396473d266fb820038d6f7a@iserv.bbsthuine.de
DTSTART;TZID=Europe/Berlin:20220125T090000
DTEND;TZID=Europe/Berlin:20220125T095500
SUMMARY:Stationengottesdienst Namenspatronat BBS
TRANSP:OPAQUE
LAST-MODIFIED:20220114T154758Z
DTSTAMP:20220114T154758Z
SEQUENCE:0
END:VEVENT
BEGIN:VEVENT
CREATED:20220513T064729Z
UID:20220513-063228-31530f7aa2d6163f260c3afca2e32bac@iserv.bbsthuine.de
DTSTART;TZID=Europe/Berlin:20220519T080000
DTEND;TZID=Europe/Berlin:20220519T093000
SUMMARY:Infovortrag/Workshops zum "Sozialer Tag Mobil"
DESCRIPTION:•	Infovortrag: 8.00 – 8.45 Uhr: Gruppe 1      Klassen: BES\,
  SP I\, PA I\, BPA und FOS 11Q\n•	Infovortrag: 8.45 – 9.30 Uhr: Gruppe 2
       Klassen: SPA\, FOS 12G/Q\, HEP I und HEP II
LOCATION:Aula
TRANSP:OPAQUE
LAST-MODIFIED:20220513T064729Z
DTSTAMP:20220513T064729Z
SEQUENCE:0
END:VEVENT
BEGIN:VEVENT
CREATED:20220513T064745Z
UID:20220513-063739-c2fbcdd24eb58c74f375a3a80f5c07e4@iserv.bbsthuine.de
DTSTART;TZID=Europe/Berlin:20220519T094500
DTEND;TZID=Europe/Berlin:20220519T111500
SUMMARY:Workshop 1: Klassen SPA I\, PA I\, HEP I
DESCRIPTION:
 Workshop 1: „Wie wollen wir leben? Die Zukunft gehört uns!“
LOCATION:Raum 1.06
TRANSP:OPAQUE
LAST-MODIFIED:20220513T064745Z
DTSTAMP:20220513T064745Z
SEQUENCE:0
END:VEVENT
BEGIN:VEVENT
CREATED:20220513T064806Z
UID:20220513-063902-13e56fe44f478cb51ee5e619e877ed8f@iserv.bbsthuine.de
DTSTART;TZID=Europe/Berlin:20220519T113000
DTEND;TZID=Europe/Berlin:20220519T130000
SUMMARY:Workshop 2: KLassen FOS 11Q und HEP II
DESCRIPTION:Workshop 2: „What do we want? CLIMATE JUSTICE- Wie Klimawand
 el mit Gerechtigkeit zusammenhängt!“
LOCATION:Raum 1.20
TRANSP:OPAQUE
LAST-MODIFIED:20220513T064806Z
DTSTAMP:20220513T064806Z
SEQUENCE:0
END:VEVENT
BEGIN:VEVENT
CREATED:20220513T064954Z
UID:20220513-064954-e966163f931f4b83a4e4c6121ad88a22@iserv.bbsthuine.de
DTSTART;TZID=Europe/Berlin:20220620T100000
DTEND;TZID=Europe/Berlin:20220620T133000
SUMMARY:Völkerballturnier Schulgemeinschaft
TRANSP:OPAQUE
LAST-MODIFIED:20220615T130708Z
DTSTAMP:20220615T130708Z
SEQUENCE:1
END:VEVENT
BEGIN:VEVENT
CREATED:20220610T121055Z
UID:20220610-121028-10e12bac3982083ac27725147e63f7ae@iserv.bbsthuine.de
DTSTART;TZID=Europe/Berlin:20220911T140000
DTEND;TZID=Europe/Berlin:20220911T180000
SUMMARY:Tag der offenen Tür
TRANSP:OPAQUE
LAST-MODIFIED:20220829T094836Z
DTSTAMP:20220829T094836Z
SEQUENCE:1
END:VEVENT
BEGIN:VEVENT
CREATED:20220829T094959Z
UID:20220610-121202-0baef5da85a070ed673859a9bcf8e932@iserv.bbsthuine.de
DTSTART;TZID=Europe/Berlin:20220921T100000
DTEND;TZID=Europe/Berlin:20220921T124500
SUMMARY:Jubiläums-Gottesdienst mit Festakt in der BBS
TRANSP:OPAQUE
LAST-MODIFIED:20220919T075540Z
DTSTAMP:20220919T075540Z
SEQUENCE:1
END:VEVENT
BEGIN:VEVENT
CREATED:20230427T083032Z
UID:20230310-082245-dbfad7d07b5af1e8ea3abc73fc492947@iserv.bbsthuine.de
DTSTART;VALUE=DATE:20230613
DTEND;VALUE=DATE:20230614
SUMMARY:Sportivationstag  FOS 12 A+B +  HEP I+II
LOCATION:Lingen
CATEGORIES:Veranstaltung
TRANSP:OPAQUE
LAST-MODIFIED:20230427T083032Z
DTSTAMP:20230427T083032Z
SEQUENCE:0
END:VEVENT
BEGIN:VEVENT
CREATED:20230427T083052Z
UID:20230427-082836-b5a3f4c7323d88a1502c1c1bec6dd29c@iserv.bbsthuine.de
DTSTART;TZID=Europe/Berlin:20230607T103000
DTEND;TZID=Europe/Berlin:20230607T130000
SUMMARY:Völkerballturnier Schulgemeinschaft 4. - 6. Std.
TRANSP:OPAQUE
LAST-MODIFIED:20230427T083052Z
DTSTAMP:20230427T083052Z
SEQUENCE:0
END:VEVENT
BEGIN:VEVENT
CREATED:20230427T083701Z
UID:20230427-083701-a82ecf9d5830dbf6f1d6ddd786738f13@iserv.bbsthuine.de
DTSTART;VALUE=DATE:20230623
DTEND;VALUE=DATE:20230624
SUMMARY:Entlassungsfeier der Abschlussklassen
TRANSP:OPAQUE
LAST-MODIFIED:20230427T083701Z
DTSTAMP:20230427T083701Z
SEQUENCE:0
END:VEVENT
BEGIN:VEVENT
CREATED:20231212T072920Z
UID:20231205-082113-53e4e19ba4d9ef1d6ef3d0b723a4857f@iserv.bbsthuine.de
DTSTART;TZID=Europe/Berlin:20240214T143000
DTEND;TZID=Europe/Berlin:20240214T173000
SUMMARY:Fortbildung Ballorientierte Bewegungsförderung\, HEP3/SPA2
TRANSP:OPAQUE
LAST-MODIFIED:20231212T072920Z
DTSTAMP:20231212T072920Z
SEQUENCE:0
END:VEVENT
BEGIN:VEVENT
CREATED:20231108T102045Z
UID:20230818-150136-8a0c574d93b4035f9e764d70bef8f907@iserv.bbsthuine.de
DTSTART;TZID=Europe/Berlin:20231123T160000
DTEND;TZID=Europe/Berlin:20231123T190000
SUMMARY:Elternsprechtag + Infoabend
TRANSP:OPAQUE
LAST-MODIFIED:20231108T102045Z
DTSTAMP:20231108T102045Z
SEQUENCE:0
END:VEVENT
BEGIN:VEVENT
CREATED:20231212T073125Z
UID:20230516-091133-a6ecb69dd3b77f7cb23b072d7bc3b5df@iserv.bbsthuine.de
DTSTART;TZID=Europe/Berlin:20240315T130000
DTEND;TZID=Europe/Berlin:20240316T190000
SUMMARY:Spielzeug- und Kleiderbörse Kfd Thuine
DESCRIPTION:15.03. - 13 Uhr - Aufbau\n16.03. - Börse
TRANSP:OPAQUE
LAST-MODIFIED:20231212T073125Z
DTSTAMP:20231212T073125Z
SEQUENCE:0
END:VEVENT
BEGIN:VEVENT
CREATED:20231212T072119Z
UID:20231212-072119-e944445f7f40903b30a22c3c19484422@iserv.bbsthuine.de
DTSTART;TZID=Europe/Berlin:20231212T140000
DTEND;TZID=Europe/Berlin:20231212T180000
SUMMARY:Beratung und Anmeldung für Schuljahr 2024/25 - Bitte Termin vere
 inbaren
TRANSP:OPAQUE
LAST-MODIFIED:20231212T072411Z
DTSTAMP:20231212T072411Z
SEQUENCE:2
END:VEVENT
BEGIN:VEVENT
CREATED:20231206T075026Z
UID:20231205-164125-e03fe8fd7ba10db7cc8d6e1162e5cfbb@iserv.bbsthuine.de
DTSTART;TZID=Europe/Berlin:20231207T081500
DTEND;TZID=Europe/Berlin:20231207T093000
SUMMARY:Roratemesse in der Dorfkirche
TRANSP:OPAQUE
LAST-MODIFIED:20231206T075026Z
DTSTAMP:20231206T075026Z
SEQUENCE:0
END:VEVENT
BEGIN:VEVENT
CREATED:20231208T094205Z
UID:20230818-150233-279422fec65973d27d3b22f3d8966030@iserv.bbsthuine.de
DTSTART;TZID=Europe/Berlin:20240130T080000
DTEND;TZID=Europe/Berlin:20240130T130000
SUMMARY:Schnuppertag für alle\, die sich für die BBS interessieren
TRANSP:OPAQUE
LAST-MODIFIED:20231208T094205Z
DTSTAMP:20231208T094205Z
SEQUENCE:0
END:VEVENT
BEGIN:VEVENT
CREATED:20231212T072444Z
UID:20231212-072444-1a7af5905847e78a9c86f434ed0d00f7@iserv.bbsthuine.de
DTSTART;TZID=Europe/Berlin:20231219T140000
DTEND;TZID=Europe/Berlin:20231219T180000
SUMMARY:Beratung und Anmeldung für Schuljahr 2024/25 - Bitte Termin vere
 inbaren
TRANSP:OPAQUE
LAST-MODIFIED:20231212T072444Z
DTSTAMP:20231212T072444Z
SEQUENCE:0
END:VEVENT
BEGIN:VEVENT
CREATED:20231206T080610Z
UID:20231206-080610-3bb29bc8447a73050f7337462f677aaf@iserv.bbsthuine.de
SEQUENCE:0
DTSTART;TZID=Europe/Berlin:20231213T113000
DTEND;TZID=Europe/Berlin:20231213T130000
SUMMARY:Weihnachtsmarkt
TRANSP:OPAQUE
LAST-MODIFIED:20231208T093209Z
DTSTAMP:20231208T093209Z
END:VEVENT
BEGIN:VEVENT
CREATED:20231212T072718Z
UID:20231212-072718-b22d9ab63ffa97886c3a107080acb804@iserv.bbsthuine.de
DTSTART;TZID=Europe/Berlin:20240109T140000
DTEND;TZID=Europe/Berlin:20240109T180000
SUMMARY:Beratung und Anmeldung für Schuljahr 2024/25 - Bitte Termin vere
 inbaren
TRANSP:OPAQUE
RRULE:FREQ=WEEKLY;BYDAY=TU;UNTIL=20240313T170000Z
LAST-MODIFIED:20231212T072718Z
DTSTAMP:20231212T072718Z
SEQUENCE:0
END:VEVENT
BEGIN:VEVENT
CREATED:20240827T194207Z
UID:20240827-194207-87c248de76364daec987aec87e80ca26@iserv.bbsthuine.de
DTSTART;TZID=Europe/Berlin:20240929T140000
DTEND;TZID=Europe/Berlin:20240929T180000
SUMMARY:Tag der offenen Tür
CLASS:PUBLIC
TRANSP:OPAQUE
LAST-MODIFIED:20240827T194207Z
DTSTAMP:20240827T194207Z
SEQUENCE:0
END:VEVENT
BEGIN:VEVENT
CREATED:20240827T194335Z
UID:20240827-194335-bcc0148f30e6a22dd8ec0ac226cae846@iserv.bbsthuine.de
DTSTART;VALUE=DATE:20240905
DTEND;VALUE=DATE:20240906
SUMMARY:Fahrt der Schulgemeinschaft zur ZOOM Erlebniswelt Gelsenkirchen
CLASS:PUBLIC
TRANSP:OPAQUE
LAST-MODIFIED:20240827T194335Z
DTSTAMP:20240827T194335Z
SEQUENCE:0
END:VEVENT
BEGIN:VEVENT
CREATED:20240921T105106Z
UID:20240727-100103-d4cb6808ac79bd7efd0185d5b4165915@iserv.bbsthuine.de
DTSTART;TZID=Europe/Berlin:20241126T160000
DTEND;TZID=Europe/Berlin:20241126T190000
SUMMARY:Info-Nachmittag und Elternsprechtag
TRANSP:OPAQUE
LAST-MODIFIED:20241115T082758Z
DTSTAMP:20241115T082758Z
SEQUENCE:2
END:VEVENT
BEGIN:VEVENT
CREATED:20241115T082846Z
UID:20240819-135834-fb74a413e03df8408fa0cdc9e85abb03@iserv.bbsthuine.de
DTSTART;TZID=Europe/Berlin:20241220T100000
DTEND;TZID=Europe/Berlin:20241220T113000
SUMMARY:Weihnachtsmarkt der Schulgemeinschaft\, 3./4. Std.
TRANSP:OPAQUE
LAST-MODIFIED:20241115T082846Z
DTSTAMP:20241115T082846Z
SEQUENCE:0
END:VEVENT
BEGIN:VEVENT
CREATED:20241115T082924Z
UID:20240821-093650-91cb762b1e178860a757513368b275be@iserv.bbsthuine.de
DTSTART;TZID=Europe/Berlin:20241218T113000
DTEND;TZID=Europe/Berlin:20241218T130000
SUMMARY:Rorate-Messe 5./6. Std.
LOCATION:Dorfkirche
TRANSP:OPAQUE
LAST-MODIFIED:20241127T102911Z
DTSTAMP:20241127T102911Z
SEQUENCE:1
END:VEVENT
BEGIN:VEVENT
CREATED:20250918T140225Z
UID:20250824-174938-134a65e29d3240f3627d9930b2f8dabd@iserv.bbsthuine.de
DTSTART;VALUE=DATE:20251005
DTEND;VALUE=DATE:20251019
SUMMARY:Erasmus-Projekt Derry (Nordirland) (Te/We)
TRANSP:OPAQUE
LAST-MODIFIED:20250918T140225Z
DTSTAMP:20250918T140225Z
SEQUENCE:0
END:VEVENT
BEGIN:VEVENT
CREATED:20250918T140347Z
UID:20250903-090739-6d90ddb2023878b4506b2de159cdc439@iserv.bbsthuine.de
DTSTART;VALUE=DATE:20251009
DTEND;VALUE=DATE:20251010
SUMMARY:Schulausflug Moviepark
TRANSP:OPAQUE
LAST-MODIFIED:20250918T140347Z
DTSTAMP:20250918T140347Z
SEQUENCE:0
END:VEVENT
BEGIN:VEVENT
CREATED:20250918T141047Z
UID:20250908-072135-ba58b6252f1523b1b5efbc6255c04540@iserv.bbsthuine.de
DTSTART;TZID=Europe/Berlin:20251127T160000
DTEND;TZID=Europe/Berlin:20251127T190000
SUMMARY:Info-Nachmittag für alle Schulformen
TRANSP:OPAQUE
LAST-MODIFIED:20250918T141047Z
DTSTAMP:20250918T141047Z
SEQUENCE:0
END:VEVENT
BEGIN:VEVENT
CREATED:20250918T141116Z
UID:20250824-175830-c7027110a27ddda6ac7ee21ad29c2d34@iserv.bbsthuine.de
DTSTART;TZID=Europe/Berlin:20251127T160000
DTEND;TZID=Europe/Berlin:20251127T190000
SUMMARY:Elternsprechtag
TRANSP:OPAQUE
LAST-MODIFIED:20250918T141116Z
DTSTAMP:20250918T141116Z
SEQUENCE:0
END:VEVENT
BEGIN:VEVENT
CREATED:20250918T141150Z
UID:20250812-121126-a70331e28a8149e98aeb070fc1d2dd05@iserv.bbsthuine.de
DTSTART;TZID=Europe/Berlin:20251127T103000
DTEND;TZID=Europe/Berlin:20251127T111500
SUMMARY:Adventskranzsegnung
TRANSP:OPAQUE
LAST-MODIFIED:20250918T141150Z
DTSTAMP:20250918T141150Z
SEQUENCE:0
END:VEVENT
BEGIN:VEVENT
CREATED:20250918T141658Z
UID:20250824-175848-97beca1fb87ba9da4a9023a2b1444c80@iserv.bbsthuine.de
DTSTART;VALUE=DATE:20251218
DTEND;VALUE=DATE:20251219
SUMMARY:Weihnachtsmarkt
TRANSP:OPAQUE
LAST-MODIFIED:20250918T141658Z
DTSTAMP:20250918T141658Z
SEQUENCE:0
END:VEVENT
BEGIN:VEVENT
CREATED:20250918T141728Z
UID:20250812-122452-4417e8194f0cac4507068c88124ccdf0@iserv.bbsthuine.de
DTSTART;TZID=Europe/Berlin:20260106T103000
DTEND;TZID=Europe/Berlin:20260106T111500
SUMMARY:Segensfeier zum Jahresbeginn
TRANSP:OPAQUE
LAST-MODIFIED:20250918T141728Z
DTSTAMP:20250918T141728Z
SEQUENCE:0
END:VEVENT
BEGIN:VEVENT
CREATED:20250918T141630Z
UID:20250812-121617-2fb2322e6cb556d9cbd07fd420e9bb00@iserv.bbsthuine.de
DTSTART;TZID=Europe/Berlin:20251218T090000
DTEND;TZID=Europe/Berlin:20251218T100000
SUMMARY:Roratemesse
TRANSP:OPAQUE
LAST-MODIFIED:20251209T072705Z
DTSTAMP:20251209T072705Z
SEQUENCE:2
END:VEVENT
END:VCALENDAR